BEGIN:VCALENDAR
VERSION:2.0
PRODID:-//Stream-Portal//Seminar-Kalender//EN
NAME:Stream-Übersicht
X-WR-CALNAME:Stream-Übersicht
TIMEZONE-ID:Europe/Berlin
X-WR-TIMEZONE:Europe/Berlin
BEGIN:VEVENT
UID:8356b418-4183-490b-b40b-5627e61f20df
SEQUENCE:0
DTSTAMP:20260420T105351
DTSTART:20260223T040000
DTEND:20260223T160000
SUMMARY:studio-c-test-stream-titel
LOCATION:Online Seminar
DESCRIPTION:test
URL;VALUE=URI:schwein.studio-c.tv/stream/99
STATUS:CONFIRMED
END:VEVENT
END:VCALENDAR