BEGIN:VCALENDAR
VERSION:2.0
PRODID:-//Stream-Portal//Seminar-Kalender//EN
NAME:Stream-Übersicht
X-WR-CALNAME:Stream-Übersicht
TIMEZONE-ID:Europe/Berlin
X-WR-TIMEZONE:Europe/Berlin
BEGIN:VEVENT
UID:314fc7bb-c9a9-4d3a-8dfa-b0868c9c7623
SEQUENCE:0
DTSTAMP:20260420T110237
DTSTART:20260218T190000
DTEND:20260218T210000
SUMMARY:studio-c-test
LOCATION:Online Seminar
DESCRIPTION:test
URL;VALUE=URI:schwein.studio-c.tv/stream/98
STATUS:CONFIRMED
END:VEVENT
END:VCALENDAR